BEGIN:VCALENDAR
VERSION:2.0
PRODID:-//Port of Coupeville - ECPv6.15.20//NONSGML v1.0//EN
CALSCALE:GREGORIAN
METHOD:PUBLISH
X-WR-CALNAME:Port of Coupeville
X-ORIGINAL-URL:https://portoc.org
X-WR-CALDESC:Events for Port of Coupeville
REFRESH-INTERVAL;VALUE=DURATION:PT1H
X-Robots-Tag:noindex
X-PUBLISHED-TTL:PT1H
BEGIN:VTIMEZONE
TZID:America/Los_Angeles
BEGIN:DAYLIGHT
TZOFFSETFROM:-0800
TZOFFSETTO:-0700
TZNAME:PDT
DTSTART:20230312T100000
END:DAYLIGHT
BEGIN:STANDARD
TZOFFSETFROM:-0700
TZOFFSETTO:-0800
TZNAME:PST
DTSTART:20231105T090000
END:STANDARD
BEGIN:DAYLIGHT
TZOFFSETFROM:-0800
TZOFFSETTO:-0700
TZNAME:PDT
DTSTART:20240310T100000
END:DAYLIGHT
BEGIN:STANDARD
TZOFFSETFROM:-0700
TZOFFSETTO:-0800
TZNAME:PST
DTSTART:20241103T090000
END:STANDARD
BEGIN:DAYLIGHT
TZOFFSETFROM:-0800
TZOFFSETTO:-0700
TZNAME:PDT
DTSTART:20250309T100000
END:DAYLIGHT
BEGIN:STANDARD
TZOFFSETFROM:-0700
TZOFFSETTO:-0800
TZNAME:PST
DTSTART:20251102T090000
END:STANDARD
END:VTIMEZONE
BEGIN:VEVENT
DTSTART;TZID=America/Los_Angeles:20240612T100000
DTEND;TZID=America/Los_Angeles:20240612T170000
DTSTAMP:20260422T155229
CREATED:20231222T205836Z
LAST-MODIFIED:20231222T205836Z
UID:11216-1718186400-1718211600@portoc.org
SUMMARY:Port of Coupeville Commission Meeting
DESCRIPTION:
URL:https://portoc.org/event/port-of-coupeville-commission-meeting-49/
LOCATION:Greenbank Farm\, Jim Davis House\, 765 Wonn Road\, Suite E\, Jim Davis House\, Greenbank\, WA\, 98253\, United States
CATEGORIES:Open Public Meeting
END:VEVENT
BEGIN:VEVENT
DTSTART;TZID=America/Los_Angeles:20240626T130000
DTEND;TZID=America/Los_Angeles:20240626T170000
DTSTAMP:20260422T155229
CREATED:20231222T205921Z
LAST-MODIFIED:20231222T205921Z
UID:11218-1719406800-1719421200@portoc.org
SUMMARY:Port of Coupeville Commission Meeting
DESCRIPTION:
URL:https://portoc.org/event/port-of-coupeville-commission-meeting-50/
LOCATION:Greenbank Farm\, Jim Davis House\, 765 Wonn Road\, Suite E\, Jim Davis House\, Greenbank\, WA\, 98253\, United States
CATEGORIES:Open Public Meeting
END:VEVENT
END:VCALENDAR