BEGIN:VCALENDAR
VERSION:2.0
PRODID:-//Port of Coupeville - ECPv6.15.20//NONSGML v1.0//EN
CALSCALE:GREGORIAN
METHOD:PUBLISH
X-ORIGINAL-URL:https://portoc.org
X-WR-CALDESC:Events for Port of Coupeville
REFRESH-INTERVAL;VALUE=DURATION:PT1H
X-Robots-Tag:noindex
X-PUBLISHED-TTL:PT1H
BEGIN:VTIMEZONE
TZID:America/Los_Angeles
BEGIN:DAYLIGHT
TZOFFSETFROM:-0800
TZOFFSETTO:-0700
TZNAME:PDT
DTSTART:20240310T100000
END:DAYLIGHT
BEGIN:STANDARD
TZOFFSETFROM:-0700
TZOFFSETTO:-0800
TZNAME:PST
DTSTART:20241103T090000
END:STANDARD
BEGIN:DAYLIGHT
TZOFFSETFROM:-0800
TZOFFSETTO:-0700
TZNAME:PDT
DTSTART:20250309T100000
END:DAYLIGHT
BEGIN:STANDARD
TZOFFSETFROM:-0700
TZOFFSETTO:-0800
TZNAME:PST
DTSTART:20251102T090000
END:STANDARD
BEGIN:DAYLIGHT
TZOFFSETFROM:-0800
TZOFFSETTO:-0700
TZNAME:PDT
DTSTART:20260308T100000
END:DAYLIGHT
BEGIN:STANDARD
TZOFFSETFROM:-0700
TZOFFSETTO:-0800
TZNAME:PST
DTSTART:20261101T090000
END:STANDARD
END:VTIMEZONE
BEGIN:VEVENT
DTSTART;TZID=America/Los_Angeles:20250212T100000
DTEND;TZID=America/Los_Angeles:20250212T140000
DTSTAMP:20260422T031928
CREATED:20241227T195133Z
LAST-MODIFIED:20241227T195133Z
UID:12307-1739354400-1739368800@portoc.org
SUMMARY:Port of Coupeville Commission Meeting
DESCRIPTION:
URL:https://portoc.org/event/port-of-coupeville-commission-meeting-65/
LOCATION:Greenbank Farm\, Jim Davis House\, 765 Wonn Road\, Suite E\, Jim Davis House\, Greenbank\, WA\, 98253\, United States
CATEGORIES:Open Public Meeting
END:VEVENT
BEGIN:VEVENT
DTSTART;TZID=America/Los_Angeles:20250220T101500
DTEND;TZID=America/Los_Angeles:20250220T113000
DTSTAMP:20260422T031928
CREATED:20250212T212816Z
LAST-MODIFIED:20250212T212858Z
UID:12422-1740046500-1740051000@portoc.org
SUMMARY:Commissioner Workshop - Delegation of Authority
DESCRIPTION:
URL:https://portoc.org/event/commissioner-workshop-delegation-of-authority/
LOCATION:WA
CATEGORIES:Open Public Meeting
END:VEVENT
BEGIN:VEVENT
DTSTART;TZID=America/Los_Angeles:20250226T130000
DTEND;TZID=America/Los_Angeles:20250226T160000
DTSTAMP:20260422T031928
CREATED:20241227T194858Z
LAST-MODIFIED:20241227T194957Z
UID:12305-1740574800-1740585600@portoc.org
SUMMARY:Port of Coupeville Commission Meeting
DESCRIPTION:
URL:https://portoc.org/event/port-of-coupeville-commission-meeting-64/
LOCATION:Greenbank Farm\, Jim Davis House\, 765 Wonn Road\, Suite E\, Jim Davis House\, Greenbank\, WA\, 98253\, United States
CATEGORIES:Open Public Meeting
END:VEVENT
END:VCALENDAR