BEGIN:VCALENDAR
VERSION:2.0
PRODID:-//Port of Coupeville - ECPv6.15.20//NONSGML v1.0//EN
CALSCALE:GREGORIAN
METHOD:PUBLISH
X-ORIGINAL-URL:https://portoc.org
X-WR-CALDESC:Events for Port of Coupeville
REFRESH-INTERVAL;VALUE=DURATION:PT1H
X-Robots-Tag:noindex
X-PUBLISHED-TTL:PT1H
BEGIN:VTIMEZONE
TZID:America/Los_Angeles
BEGIN:DAYLIGHT
TZOFFSETFROM:-0800
TZOFFSETTO:-0700
TZNAME:PDT
DTSTART:20220313T100000
END:DAYLIGHT
BEGIN:STANDARD
TZOFFSETFROM:-0700
TZOFFSETTO:-0800
TZNAME:PST
DTSTART:20221106T090000
END:STANDARD
BEGIN:DAYLIGHT
TZOFFSETFROM:-0800
TZOFFSETTO:-0700
TZNAME:PDT
DTSTART:20230312T100000
END:DAYLIGHT
BEGIN:STANDARD
TZOFFSETFROM:-0700
TZOFFSETTO:-0800
TZNAME:PST
DTSTART:20231105T090000
END:STANDARD
BEGIN:DAYLIGHT
TZOFFSETFROM:-0800
TZOFFSETTO:-0700
TZNAME:PDT
DTSTART:20240310T100000
END:DAYLIGHT
BEGIN:STANDARD
TZOFFSETFROM:-0700
TZOFFSETTO:-0800
TZNAME:PST
DTSTART:20241103T090000
END:STANDARD
END:VTIMEZONE
BEGIN:VEVENT
DTSTART;TZID=America/Los_Angeles:20230517T120000
DTEND;TZID=America/Los_Angeles:20230517T140000
DTSTAMP:20260423T131723
CREATED:20230509T205150Z
LAST-MODIFIED:20230509T205228Z
UID:8122-1684324800-1684332000@portoc.org
SUMMARY:Port of Coupeville Special Hearing of The Board of Commissioners - AJ Eisenberg Airport
DESCRIPTION:
URL:https://portoc.org/event/port-of-coupeville-special-hearing-of-the-board-of-commissioners-aj-eisenberg-airport/
LOCATION:Greenbank Farm\, Historic Barn A\, 765 Wonn Road\, Barn A\, Greenbank\, WA\, 98253\, United States
CATEGORIES:Open Public Meeting
END:VEVENT
END:VCALENDAR